BEGIN:VCALENDAR
VERSION:2.0
PRODID:-//TYPO3/NONSGML News system (news)//EN
BEGIN:VEVENT
SUMMARY:AdAR-Webinar: 4. Update zu Digitalisierung und Künstlicher Intelligenz im Aufsichtsrat
DESCRIPTION:Mehr erfahren: https://www.adar.info/fortbildung/veranstaltungen/detail/webinar-vertrauenskultur-im-aufsichtsrat-1-2.html\n\nVeranstalter:\nArbeitskreis deutscher Aufsichtsrat (AdAR) e.V.\nTelefon: 022155400180\nE-Mail: \nWebseite: https://www.adar.info/\nLinkedIn: https://www.linkedin.com/company/43229802/\n\nVeranstaltungsort:\nOnline\n\n
DTSTAMP:20260422T115758CEST
DTSTART:20260507T120000CEST
DTEND:20260507T130000CEST
END:VEVENT
END:VCALENDAR