BEGIN:VCALENDAR
VERSION:2.0
PRODID:-//TYPO3/NONSGML News system (news)//EN
BEGIN:VEVENT
SUMMARY:"Transformation als Aufsichtrats-Kompetenz - Wege zum Erfolg" 
DESCRIPTION:Mehr erfahren: https://www.adar.info/fortbildung/veranstaltungen/detail/transformation-als-aufsichtrats-kompetenz-wege-zum-erfolg.html\n\nVeranstalter:\nFidAR Frauen in die Aufsichtsräte e.V.\nWebseite: https://www.fidar.de/\n\nVeranstaltungsort:\nonline\n\n
DTSTAMP:20250123T200807CET
DTSTART:20230323T120000CET
DTEND:20230323T130000CET
END:VEVENT
END:VCALENDAR