BEGIN:VCALENDAR
VERSION:2.0
PRODID:-//TYPO3/NONSGML News system (news)//EN
BEGIN:VEVENT
SUMMARY:Online Module Qualifizierter Aufsichtsrat
DESCRIPTION:Mehr erfahren: https://www.adar.info/fortbildung/veranstaltungen/detail/online-module-qualifizierter-aufsichtsrat.html\n\nVeranstalter:\nManagement Alliance\nMobil: 0176 72 73 20 63\nE-Mail: info@managementalliance.de\nWebseite: https://www.managementalliance.de/\n\nVeranstaltungsort:\nonline\n\n
DTSTAMP:20251013T172656CEST
DTSTART:20240101T000000CET
DTEND:20241231T000000CET
END:VEVENT
END:VCALENDAR