BEGIN:VCALENDAR
VERSION:2.0
PRODID:-//TYPO3/NONSGML News system (news)//EN
BEGIN:VEVENT
SUMMARY:Business Lunch - Corporate Governance und KI: Herausforderungen und Chancen für die Aufsichtsratsarbeit
DESCRIPTION:Mehr erfahren: https://www.adar.info/fortbildung/veranstaltungen/detail/business-lunch-corporate-governance-und-ki-herausforderungen-und-chancen-fuer-die-aufsichtsratsarbeit.html\n\nVeranstalter:\nAdAR & Sherpany\n\nVeranstaltungsort:\nMandarin Oriental München\nWebseite: https://www.mandarinoriental.com/en/munich/altstadt?src=loc.local_listing.momuc.ggl\n\n
DTSTAMP:20260210T102357CET
DTSTART:20241023T110000CEST
DTEND:20241023T133000CEST
LOCATION:Mandarin Oriental München
END:VEVENT
END:VCALENDAR